Workbook

Sheet смета -1000 р.
A1: Утверждена на общем собрании членов
A2: (собрании уполномоченных) СНТ «Лесное»
A3: Протокол № б/н от «18» октября 2025 года
A4: Председатель собрания Колонтаевская Е.В. ( )
A5: Секретарь собрания ( )
A6: М.П.
A7: ПРОЕКТ
A8: Приходно-расходная смета СНТ «Лесное» на 2027 год
B9: из расчета 1000 руб. за сотку | C9: Поступления за минусом неуплаты | D9: уд. Вес
A10: Поступления по видам обязательных платежей (руб.)
A11: площадь, занимаемая земельными участками членами СНТ | B11: 67274.5
A12: площадь, занимаемая земельными участками для расчетов всего | B12: 63929.8
A13: Итого площадь СНТ для расчетов | B13: =SUM(B11:B12) -> 131204.3
A14: Раздел 1. Членские взносы, вступительные взносы
A15: Остаток средств на 01.01.2027 г. | B15: 49543.54
A16: Долги по членским взносам за прошлые периоды (на 01.01.2027) | B16: =34214.4 -> 34214.4 | C16: 0
A17: Переплата по членским взносам на 01.01.2027 | B17: -5922.54
A18: Членские взносы за 2027 г. 1000 руб. | B18: =SUM(B11*1000/100) -> 672745 | C18: 0
A19: Прочие доходы судебные издержки взысканные | B19: 66145.52 | C19: 0
A22: Итого доходов по разделу 1: __________________________________ | B22: =SUM(B16:B19) -> 767182.38 | C22: =SUM(C15:C21) -> 0
A24: Раздел 2. Целевые поступления на содержание инфраструктуры и территории
A25: 1. Долги за прошлые периоды (3 года) по оплате за пользование объектами инфраструктуры/ - 65% неуплаты | B25: =295670.3 -> 295670.3 | C25: =295670.3-295670.3*0.65 -> 103484.6
A26: 2. Переплата по индивидуальным взносам на 01.01.2027 г. | B26: =-1944-1239.6 -> -3183.6 | C26: -1944
A27: 3. Плата за пользование объектами инфраструктуры индивидуальными садоводами СНТ на 2027 г. - 15% неуплаты | B27: =SUM(B12*1000/100) -> 639298 | C27: =SUM(B27-B27*0.15) -> 543403.3
A28: 4. Прочие доходы (в т.ч. возврат от Коклюхиной и взыскание по выигранным искам, возмещение судебных расходов, госпошлины) | B28: 54312.48 | C28: =SUM(B28) -> 54312.48
A30: Итого доходов по разделу 2: ________________________________________ | B30: =SUM(B25:B28) -> 986097.18 | C30: =SUM(C25:C28) -> 699256.39
A32: ВСЕГО поступлений (сумма разделов 1,2): _______________________________ | B32: =SUM(B22+B30) -> 1753279.6 | C32: =SUM(B22+C30) -> 1466438.8
A33: Формирование эксплуатационного фонда (расходы СНТ)
A35: Раздел 3. Расходы по хозяйственной деятельности
A36: Фонд оплаты по трудовым договорам работников (т.ч. проезд), с учетом страховых взносов | B36: =SUM('зплата'!D9) -> 390600 | D36: =SUM(B36/$B$54) -> 0.2662485
A37: Компенсация за использование личного автомобиля и иного имущества | B37: =SUM('зплата'!E9) -> 108000 | D37: =SUM(B37/$B$54) -> 0.073617097
A38: Оплата по гражданско-правовым договорам( в том числе юридические услуги) | B38: 40000 | D38: =SUM(B38/$B$54) -> 0.027265592
A39: Организационные расходы (канцелярские 5000 р., связь 2500 р., программное обеспечение 22000 р., проведение собраний, содержание сайта стоимость платформы по тариф. плану мин в месяц 693 р., если за год, то скидка 30%, оплата за домен (имя сайта) - 4900 руб.) | B39: =5000+2500+22000+693*12-693*12*30%+4900 -> 40221.2 | D39: =SUM(B39/$B$54) -> 0.02741637
A40: Банковские расходы (комиссия по электронным платежам 2,5% + 15000 р. комиссия за обслуживание счета | B40: =SUM(C32*2.5%)+15000 -> 51660.969 | D40: =SUM(B40/$B$54) -> 0.035214172
A41: Налог по УСН | B41: =SUM(B19*15%) -> 9921.828 | D41: =SUM(B41/$B$54) -> 0.0067631128
A42: Резервный фонд на непредвиденные расходы (в т.ч. штрафы, пени, судебные издержки - госпошлина 8 должника * 4000 руб. , др.) | B42: =8*4000 -> 32000 | D42: =SUM(B42/$B$54) -> 0.021812473
A44: Итого расходов по разделу 3: | B44: =SUM(B36:B42) -> 672404
A46: Радел 4. Целевые расходы на содержание инфраструктуры
A47: и территории
A48: Ремонт и содержание дорог | B48: =SUM('ремонт дорог нов'!E31) -> 565310 | D48: =SUM(B48/$B$54) -> 0.38533779
...

Sheet смета -1200 р.-1
A1: Утверждена на общем собрании членов
A2: (собрании уполномоченных) СНТ «Лесное»
A3: Протокол № б/н от «14» декабря 2025 года
A4: Председатель собрания Колонтаевская Е.В. ( )
A5: Секретарь собрания ( )
A6: М.П.
A7: ПРОЕКТ
A8: Приходно-расходная смета СНТ «Лесное» на 2026 год
B9: из расчета 1200 руб. за сотку | C9: Поступления за минусом неуплаты | D9: уд. Вес
A10: Поступления по видам обязательных платежей (руб.)
A11: площадь, занимаемая земельными участками членами СНТ | B11: 74009
A12: площадь, занимаемая земельными участками для расчетов всего | B12: 66338.8
A13: Итого площадь СНТ для расчетов | B13: =SUM(B11:B12) -> 140347.8
A14: Раздел 1. Членские взносы, вступительные взносы
A15: 1. Остаток средств на 12.12.2025 г. | B15: 36342.24
A16: 2. Задолженность по ФОТ | B16: 47493
A17: 3. Задолженность за вывоз ТБО | B17: 7089.92
A18: Остаток денежных средств на 01.01.2026 г. | B18: =SUM(B15-B16-B17) -> -18240.68
A19: 1. Долги по членским взносам за прошлые периоды (на 01.01.2026) | B19: =35735.3 -> 35735.3 | C19: 0
A20: 2. Переплата по членским взносам на 01.01.2026 | B20: -27084.8
A21: 3. Долг по дополнительному взносу на капитальный ремонт дорог (2000 руб.) за 2019 г. на 01.01.2026 г. Взыскано по суду | B21: 4000 | C21: 0
A22: 4. Членские взносы за 2026 г. 1200 руб. | B22: =SUM(B11*1200/100) -> 888108 | C22: 0
A23: 5. Прочие доходы судебные издержки взысканные | B23: 39458.77 | C23: 0
A26: Итого доходов по разделу 1: __________________________________ | B26: =SUM(B18:B23) -> 921976.59 | C26: =SUM(C15:C25) -> 0
A28: Раздел 2. Целевые поступления на содержание инфраструктуры и территории
A29: 1. Долги за прошлые периоды (3 года) по оплате за пользование объектами инфраструктуры/ - 65% неуплаты | B29: =395441.59 -> 395441.59 | C29: =369913.44-369913.44*0.65 -> 129469.7
A30: 2. Переплата по индивидуальным взносам на 01.01.2026 г. | B30: -25528.15 | C30: -25525.15
A31: 3. Плата за пользование объектами инфраструктуры индивидуальными садоводами СНТ на 2026 г. - 28% неуплаты | B31: =SUM(B12*1200/100) -> 796065.6 | C31: =SUM(B31-B31*0.28) -> 573167.23
A32: 4. Прочие доходы (в т.ч. возврат от Коклюхиной и взыскание по выигранным искам, возмещение судебных расходов, госпошлины) | B32: 56715.36 | C32: =SUM(B32) -> 56715.36
A34: Итого доходов по разделу 2: ________________________________________ | B34: =SUM(B29:B32) -> 1222694.4 | C34: =SUM(C29:C32) -> 733827.15
A36: ВСЕГО поступлений (сумма разделов 1,2): _______________________________ | B36: =SUM(B26+B34) -> 2144671 | C36: =SUM(B26+C34) -> 1655803.7
A37: Формирование эксплуатационного фонда (расходы СНТ)
A39: Раздел 4. Расходы по хозяйственной деятельности
A40: 1. Фонд оплаты по трудовым договорам работников (т.ч. проезд), с учетом страховых взносов | B40: =SUM('зплата'!D9) -> 390600 | D40: =SUM(B40/$B$60) -> #REF!
A41: 2. Компенсация за использование личного автомобиля и иного имущества | B41: =SUM('зплата'!E9) -> 108000 | D41: =SUM(B41/$B$60) -> #REF!
A42: 3. Оплата по гражданско-правовым договорам( в том числе юридические услуги) | B42: 120000 | D42: =SUM(B42/$B$60) -> #REF!
A43: 4. Организационные расходы (канцелярские 5000 р., связь 2500 р., программное обеспечение 26000 р., проведение собраний - 30000 р., содержание сайта стоимость платформы по тариф. плану мин в месяц 693 р., если за год, то скидка 30%, оплата за домен (имя сайта) - 4900 руб.) | B43: =5000+2500+26000+30000+693*12-693*12*30%+4900 -> 74221.2 | D43: =SUM(B43/$B$60) -> #REF!
A44: 5. Банковские расходы (комиссия по электронным платежам) | B44: =SUM(C36*2.5%)+10000 -> 51395.093 | D44: =SUM(B44/$B$60) -> #REF!
A45: 6. Налог на землю | B45: 0 | D45: =SUM(B45/$B$60) -> #REF!
A46: 7. Налог по УСН | B46: =SUM(B23*15%) -> 5918.8155 | D46: =SUM(B46/$B$60) -> #REF!
...

Sheet зплата
A1: Приложение к смете 1
A3: Фонд оплаты труда СНТ | B3: в м-ц | C3: компенсация за использование личного автомобиля | D3: з/плата за год | E3: компенсация за год | F3: Итого в м-ц
A4: з/плата всего, с т.ч. | B4: =SUM(B5:B7) -> 25000 | C4: 9000 | D4: =SUM(D5:D7) -> 300000 | E4: =SUM(E5:E6) -> 108000
A5: председатель | B5: 10500 | C5: 4500 | D5: =SUM(B5*12) -> 126000 | E5: =SUM(C5*12) -> 54000 | F5: =SUM(B5:C5) -> 15000
A6: бухгалтер | B6: 10500 | C6: 4500 | D6: =SUM(B6*12) -> 126000 | E6: =SUM(C6*12) -> 54000 | F6: =SUM(B6:C6) -> 15000
A7: Администратор сайта (техник) | B7: 4000 | D7: =SUM(B7*12) -> 48000 | F7: =SUM(B7:C7) -> 4000
A8: Страховые взносы | B8: =SUM(B4*30.2%) -> 7550 | D8: =SUM(B8*12) -> 90600
A9: Итого | B9: =SUM(B4+B8) -> 32550 | C9: 9000 | D9: =SUM(D4+D8) -> 390600 | E9: =SUM(E4+E8) -> 108000
A10: уборщик территории по трудовому договору работа 4 раза в месяц | B10: 7000 | D10: =SUM(B10*12) -> 84000
A11: Страховые взносы | B11: =SUM(B10*30.2%) -> 2114 | D11: =SUM(D10*30.2%) -> 25368

Sheet ремонт дорог нов
A1: Ремонт дороги ул. Лесная
A2: ремонт части дороги путем укладки дорожных плит | E2: Размер дороги: 12 × 5 м (60 м²)
A3: Наименование работ | B3: ед. изм. | C3: кол-во | D3: цена | E3: стоимость
A4: Разработка грунта глубиной 500 мм | B4: м³ | C4: 30 | D4: 650 | E4: =SUM(C4*D4) -> 19500
A5: Перемещение и планировка грунта по месту | B5: компл | C5: 1 | D5: 5000 | E5: =SUM(C5*D5) -> 5000
A6: Укладка геотекстиля | B6: м² | C6: 68 | D6: 120 | E6: =SUM(C6*D6) -> 8160
A7: Песок карьерный с доставкой | B7: м³ | C7: 27 | D7: 1450 | E7: =SUM(C7*D7) -> 39150
A8: Устройство песчаного основания с уплотнением | B8: м² | C8: 60 | D8: 350 | E8: =SUM(C8*D8) -> 21000
A9: Дорожная плита 3,0×1,75 м | B9: шт. | C9: 8 | D9: 18000 | E9: =SUM(C9*D9) -> 144000
A10: Доставка плит манипулятором | B10: компл | C10: 1 | D10: 12000 | E10: =SUM(C10*D10) -> 12000
A11: Монтаж плит манипулятором | B11: шт | C11: 8 | D11: 1000 | E11: =SUM(C11*D11) -> 8000
A12: ИТОГО | E12: =SUM(E4:E11) -> 256810
A14: Ремонт дороги ул. Садовая ( со стороны ул. Калинина)
A15: Ремонт дороги с ремонтом дренажа
A16: Наименование работ | B16: ед. изм. | C16: кол-во | D16: цена | E16: стоимость
A17: Углубление имеющейся трубы:
A18: услуги экскаватора | B18: час | C18: 4 | D18: 3500 | E18: =SUM(C18*D18) -> 14000
A19: Замена трубы: | E19: =SUM(C19*D19) -> 0
A20: труба железобетонная, диаметр 500 мм, длина 12 м (три части по 5х5х2.5 м с соединителями) с доставкой | B20: шт | C20: 1 | D20: 45000 | E20: =SUM(C20*D20) -> 45000
A21: песок для подушки под трубу и засыпку трубы | B21: тонн | C21: 10 | D21: 1200 | E21: =SUM(C21*D21) -> 12000
A22: услуги экскаватора | B22: час | C22: 5 | D22: 3500 | E22: =SUM(C22*D22) -> 17500
A23: Итого | E23: =SUM(E18:E22) -> 88500
A25: Ремонт дороги пер. Солнечный
A26: Подсыпка ПГС | B26: тонн | C26: 60 | D26: 1200 | E26: =SUM(C26*D26) -> 72000
A27: Ремонт дорог (ямочный ул. Центральная и Садовая)
A28: Щебень | B28: тонн | C28: 30 | D28: 4000 | E28: =SUM(C28*D28) -> 120000
A29: Услуги экскаватора на пер. Солнечный, Центральную, Садовую | B29: час | C29: 8 | D29: 3500 | E29: =SUM(C29*D29) -> 28000
A30: Итого | E30: =SUM(E26:E29) -> 220000
A31: Всего | E31: =SUM(E12+E23+E30) -> 565310
